BEGIN:VCALENDAR
VERSION:2.0
PRODID:-//ChurchDev//Events//EN
CALSCALE:GREGORIAN
METHOD:PUBLISH
BEGIN:VEVENT
UID:4755-20260529@www.westoverdsm.com
SUMMARY:Resilient Faith Worship &#038\; Prayer Conference 2026
DTSTART:20260530T010000Z
DTEND:20260530T030000Z
DESCRIPTION:You’re invited to a powerful weekend of worship\, prayer\, and encouragement!\\nJoin us at Westover Community Church for a community‑wide conference filled with multicultural worship\, inspiring speakers\, and meaningful connection.\\nFriday Night: Experience vibrant worship from Spanish\, Zotung\, and English teams\, plus a powerful message from Gospel Recording Artist Sue Spencer.\\nSaturday: Uplifting worship\, encouraging messages\, a breakout session on praying through difficult seasons\, free lu...\\n\\nhttps://www.westoverdsm.com/events/resilient-faith-worship-prayer-conference-2/
LOCATION:2330 62nd Street\, Des Moines\, Iowa 50322
URL:https://www.westoverdsm.com/events/resilient-faith-worship-prayer-conference-2/
DTSTAMP:20260419T223845Z
END:VEVENT
END:VCALENDAR
