BEGIN:VCALENDAR
VERSION:2.0
PRODID:-//ChurchDev//Events//EN
CALSCALE:GREGORIAN
METHOD:PUBLISH
BEGIN:VEVENT
UID:4782-20260423@www.westoverdsm.com
SUMMARY:Friendship Chain
DTSTART:20260423T180000Z
DTEND:20260423T193000Z
DESCRIPTION:Come join us for a wonderful time of fellowship and prayer. Bring a dish if you can\, but there is always plenty of good food to eat!\\n\\nhttps://www.westoverdsm.com/events/friendship-chain/
LOCATION:2330 62nd Street\, Des Moines\, Iowa 50322
URL:https://www.westoverdsm.com/events/friendship-chain/
DTSTAMP:20260419T224555Z
END:VEVENT
END:VCALENDAR
